BEGIN:VCALENDAR
VERSION:2.0
PRODID:-//vikamalayeva.art - ECPv6.15.11//NONSGML v1.0//EN
CALSCALE:GREGORIAN
METHOD:PUBLISH
X-WR-CALNAME:vikamalayeva.art
X-ORIGINAL-URL:https://vikamalayeva.art
X-WR-CALDESC:Events for vikamalayeva.art
REFRESH-INTERVAL;VALUE=DURATION:PT1H
X-Robots-Tag:noindex
X-PUBLISHED-TTL:PT1H
BEGIN:VTIMEZONE
TZID:America/New_York
BEGIN:DAYLIGHT
TZOFFSETFROM:-0500
TZOFFSETTO:-0400
TZNAME:EDT
DTSTART:20240310T070000
END:DAYLIGHT
BEGIN:STANDARD
TZOFFSETFROM:-0400
TZOFFSETTO:-0500
TZNAME:EST
DTSTART:20241103T060000
END:STANDARD
BEGIN:DAYLIGHT
TZOFFSETFROM:-0500
TZOFFSETTO:-0400
TZNAME:EDT
DTSTART:20250309T070000
END:DAYLIGHT
BEGIN:STANDARD
TZOFFSETFROM:-0400
TZOFFSETTO:-0500
TZNAME:EST
DTSTART:20251102T060000
END:STANDARD
BEGIN:DAYLIGHT
TZOFFSETFROM:-0500
TZOFFSETTO:-0400
TZNAME:EDT
DTSTART:20260308T070000
END:DAYLIGHT
BEGIN:STANDARD
TZOFFSETFROM:-0400
TZOFFSETTO:-0500
TZNAME:EST
DTSTART:20261101T060000
END:STANDARD
BEGIN:DAYLIGHT
TZOFFSETFROM:-0500
TZOFFSETTO:-0400
TZNAME:EDT
DTSTART:20270314T070000
END:DAYLIGHT
BEGIN:STANDARD
TZOFFSETFROM:-0400
TZOFFSETTO:-0500
TZNAME:EST
DTSTART:20271107T060000
END:STANDARD
END:VTIMEZONE
BEGIN:VEVENT
DTSTART;TZID=America/New_York:20260419T130000
DTEND;TZID=America/New_York:20260419T133000
DTSTAMP:20260425T150202
CREATED:20260407T165825Z
LAST-MODIFIED:20260407T170132Z
UID:686-1776603600-1776605400@vikamalayeva.art
SUMMARY:Sound & Resonance with Vika Malayeva Part 1
DESCRIPTION:This is a 4-part online series — honest conversations about resonance and the nervous system\, with live handpan\, santoor\, singing bowls\, and gongs. Each session ends with a mini sound bath where you lie down\, put on headphones\, and simply receive. Join from anywhere — your couch\, your floor\, your bed. \nApr 19 · We Are Born Into Sound  May 3 · Your Nervous System Knows  May 17 · The Body Needs to Be Washed May 31 · Re-tuning \nEach session: 70 minutes  · Live instruments · Mini sound bath \nSuggested donation: $20–35 PayPal: vmalayeva@gmail.com · Zelle: (347) 357-9713 MSG ME FOR  Zoom link · Headphones recommended \n📩 info@vikamalayeva.art
URL:https://vikamalayeva.art/event/https-us05web-zoom-us-meetings-89752593251-invitationssignature2vy9fdj_gl6wfffjjjmpwsvbrjlmvqfqinkeyywofsa/
LOCATION:Online Zoom
ATTACH;FMTTYPE=image/jpeg:https://vikamalayeva.art/wp-content/uploads/2024/04/maxresdefault-7.jpg
ORGANIZER;CN="Vika":MAILTO:info@vikamalayeva.art
END:VEVENT
BEGIN:VEVENT
DTSTART;TZID=America/New_York:20260208T140000
DTEND;TZID=America/New_York:20260208T160000
DTSTAMP:20260425T150202
CREATED:20260407T150817Z
LAST-MODIFIED:20260407T150817Z
UID:672-1770559200-1770566400@vikamalayeva.art
SUMMARY:Poetry actions: Winter warm up
DESCRIPTION:An outdoor poetry gathering — words\, movement\, and presence in the cold. Come as you are. Bring your voice or just your ears. Poetry happens where people meet.
URL:https://vikamalayeva.art/event/poetry-actions-winter-warm-up/
LOCATION:conference house park\, 298 Satterlee street\, Staten Island\, NY\, 10307\, United States
ATTACH;FMTTYPE=image/jpeg:https://vikamalayeva.art/wp-content/uploads/2022/08/vika-poet-1.jpg
ORGANIZER;CN="Vika":MAILTO:info@vikamalayeva.art
END:VEVENT
BEGIN:VEVENT
DTSTART;TZID=America/New_York:20251114T203000
DTEND;TZID=America/New_York:20251114T220000
DTSTAMP:20260425T150202
CREATED:20251114T074629Z
LAST-MODIFIED:20251221T163811Z
UID:593-1763152200-1763157600@vikamalayeva.art
SUMMARY:420 Yin & Sound Bath with Maria Lara & Vika Malayeva
DESCRIPTION:420 Yin & Sound Bath sponsored by MEDLY \nHosted by Maria Lara & Vika Malayeva \nFriday\, November 14th 8:30-10 PM \nDaya Bushwick \n$35 \nConnect with the healing power of Cannabis\, Yin Yoga and a soothing Sound Bath- perfect for the end of the busy work week! \nJoin us for a special 420 Yin Yoga & Sound Bath class. Find deep relaxation while being guided into long-held passive yin poses with a live sound bath. Come for a soothing experience and leave feeling decompressed\, rested & restored! Joint included\, sponsored by Medly. \nPre-registration required. No walk ins! \nSign Up
URL:https://vikamalayeva.art/event/420-yin-sound-bath-with-maria-lara-vika-malayeva/
LOCATION:Daya Yoga Studio\, 149 Irving Ave\, Brooklyn\, NY 11237\, United States\, United States
ATTACH;FMTTYPE=image/webp:https://vikamalayeva.art/wp-content/uploads/2025/11/yoga-7.webp
END:VEVENT
BEGIN:VEVENT
DTSTART;TZID=America/New_York:20250906T160000
DTEND;TZID=America/New_York:20250906T190000
DTSTAMP:20260425T150202
CREATED:20260407T151834Z
LAST-MODIFIED:20260407T152008Z
UID:675-1757174400-1757185200@vikamalayeva.art
SUMMARY:The Resonant Brew: A Ceremony of Coffee & Sound
DESCRIPTION:“Hello\, Beautiful New York Community! I’m a Sound & Vibrational Practitioner based in Florida\, and this September\, I’m thrilled to be visiting your vibrant city to collaborate with an incredible soul who leads powerful coffee ceremonies. \n Together\, we’re co-creating a unique\, heart-opening event on September 6th — an immersive blend of sacred sound bath healing and a ceremonial coffee experience we’re calling:  The Resonant Brew \n September 6th | 4 PM – 7 PM\nExpect deep relaxation\, soulful connection\, and a memorable journey through sound and sacred brew. This 3-hour experience is crafted with intention\, love\, and a bit of magic. If this speaks to you\, book your spot today — space is limited\, and we’d love to share this moment with you.\nBook here: www.harmonicsoflife.com/eventslist\nWith warmth\, Kateryna Aloshyna\n#SoundBathNYC #CoffeeCeremony #VibrationalHealing #ResinAndBrew #NYCEvents #SoundHealing“
URL:https://vikamalayeva.art/event/https-www-facebook-com-events-s-the-resonant-brew-3192433530909631/
LOCATION:Wolfson’s Martial Arts\, 2825 West 12 st\, Brooklyn\, NY\, United States
ATTACH;FMTTYPE=image/png:https://vikamalayeva.art/wp-content/uploads/2026/04/Screenshot-2026-04-07-110735-e1775574742814.png
END:VEVENT
BEGIN:VEVENT
DTSTART;TZID=America/New_York:20250607T190000
DTEND;TZID=America/New_York:20250607T220000
DTSTAMP:20260425T150202
CREATED:20260407T155438Z
LAST-MODIFIED:20260407T155541Z
UID:679-1749322800-1749333600@vikamalayeva.art
SUMMARY:Words that Burn the Silence
DESCRIPTION:Vika Malayeva invites you to experience poetry beyond the page. Through live music\, art by Anna Berezkina\, and interactive readings\, we will explore the echoes of Vika’s two books — the Russian Нытиё и бытиё (2022) and the English Inner Harmonics: Poetic Quests (2024). \nWords will dance with music\, creating a space where stories come alive. We will play with the language of both books\, connecting across languages and emotions. We will weave lines into rhythm\, transforming silence into song. And you will have the chance to find your own word — the one that holds you. \nHosted by Vika Malayeva
URL:https://vikamalayeva.art/event/https-www-facebook-com-events-10048544461896851-active_tabdiscussion/
LOCATION:Kvartirabooks\, 731 Washington Avenue\, Brooklyn\, NY\, 11238\, United States
ATTACH;FMTTYPE=image/jpeg:https://vikamalayeva.art/wp-content/uploads/2025/12/kvartira.jpg
END:VEVENT
BEGIN:VEVENT
DTSTART;TZID=America/New_York:20250405T100000
DTEND;TZID=America/New_York:20250405T120000
DTSTAMP:20260425T150202
CREATED:20260407T160255Z
LAST-MODIFIED:20260407T160341Z
UID:683-1743847200-1743854400@vikamalayeva.art
SUMMARY:Coffee Ceremony: Spring
DESCRIPTION:A slow and soulful spring gathering online.Join me for a live Coffee Ceremony weaving poetry\, ritual\, sound\, and presence.We’ll sip\, reflect\, and share warmth through words and silence.Celebrate spring and the anniversary of Inner Harmonics: Poetic Quests with me. https://a.co/d/09DWOoHN
URL:https://vikamalayeva.art/event/the-resonant-brew-a-ceremony-of-coffee-sound/
ATTACH;FMTTYPE=image/jpeg:https://vikamalayeva.art/wp-content/uploads/2025/03/vika-1.jpg
ORGANIZER;CN="Vika":MAILTO:info@vikamalayeva.art
END:VEVENT
END:VCALENDAR