BEGIN:VCALENDAR
VERSION:2.0
PRODID:-//vikamalayeva.art - ECPv6.15.11//NONSGML v1.0//EN
CALSCALE:GREGORIAN
METHOD:PUBLISH
X-WR-CALNAME:vikamalayeva.art
X-ORIGINAL-URL:https://vikamalayeva.art
X-WR-CALDESC:Events for vikamalayeva.art
REFRESH-INTERVAL;VALUE=DURATION:PT1H
X-Robots-Tag:noindex
X-PUBLISHED-TTL:PT1H
BEGIN:VTIMEZONE
TZID:America/New_York
BEGIN:DAYLIGHT
TZOFFSETFROM:-0500
TZOFFSETTO:-0400
TZNAME:EDT
DTSTART:20250309T070000
END:DAYLIGHT
BEGIN:STANDARD
TZOFFSETFROM:-0400
TZOFFSETTO:-0500
TZNAME:EST
DTSTART:20251102T060000
END:STANDARD
BEGIN:DAYLIGHT
TZOFFSETFROM:-0500
TZOFFSETTO:-0400
TZNAME:EDT
DTSTART:20260308T070000
END:DAYLIGHT
BEGIN:STANDARD
TZOFFSETFROM:-0400
TZOFFSETTO:-0500
TZNAME:EST
DTSTART:20261101T060000
END:STANDARD
BEGIN:DAYLIGHT
TZOFFSETFROM:-0500
TZOFFSETTO:-0400
TZNAME:EDT
DTSTART:20270314T070000
END:DAYLIGHT
BEGIN:STANDARD
TZOFFSETFROM:-0400
TZOFFSETTO:-0500
TZNAME:EST
DTSTART:20271107T060000
END:STANDARD
END:VTIMEZONE
BEGIN:VEVENT
DTSTART;TZID=America/New_York:20260208T140000
DTEND;TZID=America/New_York:20260208T160000
DTSTAMP:20260425T133412
CREATED:20260407T150817Z
LAST-MODIFIED:20260407T150817Z
UID:672-1770559200-1770566400@vikamalayeva.art
SUMMARY:Poetry actions: Winter warm up
DESCRIPTION:An outdoor poetry gathering — words\, movement\, and presence in the cold. Come as you are. Bring your voice or just your ears. Poetry happens where people meet.
URL:https://vikamalayeva.art/event/poetry-actions-winter-warm-up/
LOCATION:conference house park\, 298 Satterlee street\, Staten Island\, NY\, 10307\, United States
ATTACH;FMTTYPE=image/jpeg:https://vikamalayeva.art/wp-content/uploads/2022/08/vika-poet-1.jpg
ORGANIZER;CN="Vika":MAILTO:info@vikamalayeva.art
END:VEVENT
END:VCALENDAR